BEGIN:VCALENDAR
VERSION:2.0
PRODID:spatie/icalendar-generator
DESCRIPTION:Events from Paris - Magical City of Light
X-WR-CALDESC:Events from Paris - Magical City of Light
REFRESH-INTERVAL;VALUE=DURATION:PT1440M
X-PUBLISHED-TTL:PT1440M
BEGIN:VTIMEZONE
TZID:Etc/GMT+0
BEGIN:STANDARD
DTSTART:20230717T102600Z
TZOFFSETFROM:+0000
TZOFFSETTO:+0000
END:STANDARD
END:VTIMEZONE
BEGIN:VTIMEZONE
TZID:UTC
BEGIN:STANDARD
DTSTART:20250729T104344Z
TZOFFSETFROM:+0000
TZOFFSETTO:+0000
END:STANDARD
END:VTIMEZONE
BEGIN:VEVENT
UID:15-5
DTSTAMP:20260425T104344Z
SUMMARY:Backup Everything
LOCATION:
ORGANIZER;CN=ssander0:MAILTO:Stephen@SanderHome.com
RRULE:FREQ=WEEKLY;UNTIL=20241025T000000Z
DTSTART;TZID=Etc/GMT+0:20240412T102600
DTEND;TZID=Etc/GMT+0:20240412T112600
X-ALT-DESC;FMTTYPE=TEXT/HTML:Do an offline backup.
CATEGORIES:Social Justice
URL;VALUE=URI:https://sanderhome.com/mc-events/backup-everything?mc_id=15
END:VEVENT
END:VCALENDAR