BEGIN:VCALENDAR
VERSION:2.0
PRODID:spatie/icalendar-generator
DESCRIPTION:Events from Paris - Magical City of Light
X-WR-CALDESC:Events from Paris - Magical City of Light
REFRESH-INTERVAL;VALUE=DURATION:PT1440M
X-PUBLISHED-TTL:PT1440M
BEGIN:VTIMEZONE
TZID:Etc/GMT+0
BEGIN:STANDARD
DTSTART:20240412T142600Z
TZOFFSETFROM:+0000
TZOFFSETTO:+0000
END:STANDARD
END:VTIMEZONE
BEGIN:VTIMEZONE
TZID:UTC
BEGIN:STANDARD
DTSTART:20250728T123310Z
TZOFFSETFROM:+0000
TZOFFSETTO:+0000
END:STANDARD
END:VTIMEZONE
BEGIN:VEVENT
UID:54-6
DTSTAMP:20260424T123310Z
SUMMARY:Fishing Trip
LOCATION:
ORGANIZER;CN=ssander0:MAILTO:Stephen@SanderHome.com
RRULE:FREQ=MONTHLY;BYDAY=1TU;UNTIL=20250115T000000Z
DTSTART;TZID=Etc/GMT+0:20250107T142600
DTEND;TZID=Etc/GMT+0:20250107T152600
X-ALT-DESC;FMTTYPE=TEXT/HTML:An easy day
CATEGORIES:Social Justice
URL;VALUE=URI:https://sanderhome.com/mc-events/fishing-trip?mc_id=54
END:VEVENT
END:VCALENDAR