BEGIN:VCALENDAR
VERSION:2.0
PRODID:spatie/icalendar-generator
DESCRIPTION:Events from Paris - Magical City of Light
X-WR-CALDESC:Events from Paris - Magical City of Light
REFRESH-INTERVAL;VALUE=DURATION:PT1440M
X-PUBLISHED-TTL:PT1440M
BEGIN:VTIMEZONE
TZID:Etc/GMT+0
BEGIN:STANDARD
DTSTART:20240314T203000Z
TZOFFSETFROM:+0000
TZOFFSETTO:+0000
END:STANDARD
END:VTIMEZONE
BEGIN:VTIMEZONE
TZID:UTC
BEGIN:STANDARD
DTSTART:20250728T154734Z
TZOFFSETFROM:+0000
TZOFFSETTO:+0000
END:STANDARD
END:VTIMEZONE
BEGIN:VEVENT
UID:65-7
DTSTAMP:20260424T154734Z
SUMMARY:Folk Singing
LOCATION:
ORGANIZER;CN=ssander0:MAILTO:Stephen@SanderHome.com
RRULE:FREQ=MONTHLY;BYMONTHDAY=09;UNTIL=20260115T000000Z
DTSTART;TZID=Etc/GMT+0:20241209T203000
DTEND;TZID=Etc/GMT+0:20241209T213000
X-ALT-DESC;FMTTYPE=TEXT/HTML:
CATEGORIES:Music
URL;VALUE=URI:https://sanderhome.com/mc-events/folk-singing-2?mc_id=65
END:VEVENT
END:VCALENDAR