BEGIN:VCALENDAR
VERSION:2.0
PRODID:spatie/icalendar-generator
DESCRIPTION:Events from Paris - Magical City of Light
X-WR-CALDESC:Events from Paris - Magical City of Light
REFRESH-INTERVAL;VALUE=DURATION:PT1440M
X-PUBLISHED-TTL:PT1440M
BEGIN:VTIMEZONE
TZID:Etc/GMT+0
BEGIN:STANDARD
DTSTART:20230110T193000Z
TZOFFSETFROM:+0000
TZOFFSETTO:+0000
END:STANDARD
END:VTIMEZONE
BEGIN:VTIMEZONE
TZID:UTC
BEGIN:STANDARD
DTSTART:20250724T093159Z
TZOFFSETFROM:+0000
TZOFFSETTO:+0000
END:STANDARD
END:VTIMEZONE
BEGIN:VEVENT
UID:4-4
DTSTAMP:20260420T093159Z
SUMMARY:Folk Singing
LOCATION:
ORGANIZER;CN=ssander0:MAILTO:Stephen@SanderHome.com
DTSTART;TZID=Etc/GMT+0:20231007T193000
DTEND;TZID=Etc/GMT+0:20231007T213000
X-ALT-DESC;FMTTYPE=TEXT/HTML:Come join us.
CATEGORIES:Music
URL;VALUE=URI:https://sanderhome.com/mc-events/folk-singing?mc_id=4
END:VEVENT
END:VCALENDAR