BEGIN:VCALENDAR
VERSION:2.0
PRODID:spatie/icalendar-generator
DESCRIPTION:Events from Paris - Magical City of Light
X-WR-CALDESC:Events from Paris - Magical City of Light
REFRESH-INTERVAL;VALUE=DURATION:PT1440M
X-PUBLISHED-TTL:PT1440M
BEGIN:VTIMEZONE
TZID:Etc/GMT+0
BEGIN:STANDARD
DTSTART:20220901T100000Z
TZOFFSETFROM:+0000
TZOFFSETTO:+0000
END:STANDARD
END:VTIMEZONE
BEGIN:VTIMEZONE
TZID:UTC
BEGIN:STANDARD
DTSTART:20250724T121738Z
TZOFFSETFROM:+0000
TZOFFSETTO:+0000
END:STANDARD
END:VTIMEZONE
BEGIN:VEVENT
UID:2-2
DTSTAMP:20260420T121738Z
SUMMARY:Sunday Service - What's New in UUism?
LOCATION:UCWC 501 S. High Street  West Chester PA 19382
ORGANIZER;CN=ssander0:MAILTO:Stephen@SanderHome.com
DTSTART;TZID=Etc/GMT+0:20230529T100000
DTEND;TZID=Etc/GMT+0:20230529T110000
X-ALT-DESC;FMTTYPE=TEXT/HTML:This is a test of my calendar.
CATEGORIES:General
URL;VALUE=URI:https://sanderhome.com/mc-events/sunday-service-whats-new-in-
 uuism?mc_id=2
END:VEVENT
END:VCALENDAR