BEGIN:VCALENDAR
VERSION:2.0
PRODID:spatie/icalendar-generator
DESCRIPTION:Events from Paris - Magical City of Light
X-WR-CALDESC:Events from Paris - Magical City of Light
REFRESH-INTERVAL;VALUE=DURATION:PT1440M
X-PUBLISHED-TTL:PT1440M
BEGIN:VTIMEZONE
TZID:Etc/GMT+0
BEGIN:STANDARD
DTSTART:20220829T193000Z
TZOFFSETFROM:+0000
TZOFFSETTO:+0000
END:STANDARD
END:VTIMEZONE
BEGIN:VTIMEZONE
TZID:UTC
BEGIN:STANDARD
DTSTART:20250724T135339Z
TZOFFSETFROM:+0000
TZOFFSETTO:+0000
END:STANDARD
END:VTIMEZONE
BEGIN:VEVENT
UID:1-1
DTSTAMP:20260420T135339Z
SUMMARY:Volleyball: All Are Welcome
LOCATION:Demo: Minnesota Orchestra 1111 Nicollet Mall  Minneapolis MN 55403
ORGANIZER;CN=ssander0:MAILTO:Stephen@SanderHome.com
DTSTART;TZID=Etc/GMT+0:20230526T193000
DTEND;TZID=Etc/GMT+0:20230526T210000
X-ALT-DESC;FMTTYPE=TEXT/HTML:<p>Florence Price's Symphony No.3 was first pe
 rformed on November 6th\, 1940. It was Ms. Price's third symphony\, follow
 ing her lost Symphony No. 2</p>\n
CATEGORIES:Music,  General
URL;VALUE=URI:https://sanderhome.com/mc-events/volleyball-all-are-welcome?m
 c_id=1
END:VEVENT
END:VCALENDAR